BEGIN:VCALENDAR
VERSION:2.0
PRODID:SchoolNow
CALSCALE:GREGORIAN
BEGIN:VEVENT
UID:f89822d2-7fdb-11ef-80a4-0a58a9feac02
DTSTAMP:20250717T191431Z
SUMMARY:CDD Board Meeting- Jul. 2025
LOCATION:Rizzetta and Company\, 2700 S. Falkenburg Rd.\, Suite 2745\, River
 view FL 33578
URL;VALUE=URI:https://www.reserveatpraderacdd.org/calendar/6730548/cdd-boar
 d-meeting-jul-2025
DTSTART:20250724T220000Z
DTEND:20250724T230000Z
ATTACH;FILENAME=2025-07-24- Reserve at Pradera CDD Final Agenda.pdf;FMTTYPE
 =application/pdf:https://campussuite-storage.s3.amazonaws.com/prod/1558914
 /8e2b3d74-eaa0-11e9-b3e1-0a20d2c7fac4/2982875/41b58802-6342-11f0-be18-0a58
 a9feac02/file/2025-07-24- Reserve at Pradera CDD Final Agenda.pdf
END:VEVENT
END:VCALENDAR
